BEGIN:VCALENDAR
VERSION:2.0
PRODID:-//Episcopal Diocese of East Carolina - ECPv6.15.20//NONSGML v1.0//EN
CALSCALE:GREGORIAN
METHOD:PUBLISH
X-WR-CALNAME:Episcopal Diocese of East Carolina
X-ORIGINAL-URL:https://www.diocese-eastcarolina.org
X-WR-CALDESC:Events for Episcopal Diocese of East Carolina
REFRESH-INTERVAL;VALUE=DURATION:PT1H
X-Robots-Tag:noindex
X-PUBLISHED-TTL:PT1H
BEGIN:VTIMEZONE
TZID:UTC
BEGIN:STANDARD
TZOFFSETFROM:+0000
TZOFFSETTO:+0000
TZNAME:UTC
DTSTART:20240101T000000
END:STANDARD
END:VTIMEZONE
BEGIN:VEVENT
DTSTART;TZID=UTC:20250531T110000
DTEND;TZID=UTC:20250531T123000
DTSTAMP:20260422T113755
CREATED:20250425T185519Z
LAST-MODIFIED:20250425T185519Z
UID:10000563-1748689200-1748694600@www.diocese-eastcarolina.org
SUMMARY:Celebration of New Ministry for The Rev. Whit Stroud
DESCRIPTION:The People of The Church of The Church of the Holy Trinity\, Hertford are pleased to invite you to a Celebration of their New Ministry with The Rev. Whit Stroud\, whom the Right Reverend Robert S. Skirving\, Bishop of the Episcopal Diocese of East Carolina\, will institute as Rector on Saturday\, May 31\, 2025 at 11 a.m. All are welcome\, and your prayers and presence are requested. \n  \nClergy –cassock\, surplice and white stole \n  \nWhit Stroud Celebration of New Ministry Invitation
URL:https://www.diocese-eastcarolina.org/events/celebration-of-new-ministry-draft2/
LOCATION:Holy Trinity\, Hertford\, 207 South Church Street\, Hertford\, NC\, 27944\, United States
CATEGORIES:Events,Front Page Events,News,News & Events
ATTACH;FMTTYPE=image/png:https://www.diocese-eastcarolina.org/wp-content/uploads/2025/04/5.31.25-Whit-Stroud-New-Ministry-Celebration-1.png
END:VEVENT
END:VCALENDAR