BEGIN:VCALENDAR
VERSION:2.0
PRODID:-//Episcopal Diocese of East Carolina - ECPv6.15.20//NONSGML v1.0//EN
CALSCALE:GREGORIAN
METHOD:PUBLISH
X-ORIGINAL-URL:https://www.diocese-eastcarolina.org
X-WR-CALDESC:Events for Episcopal Diocese of East Carolina
REFRESH-INTERVAL;VALUE=DURATION:PT1H
X-Robots-Tag:noindex
X-PUBLISHED-TTL:PT1H
BEGIN:VTIMEZONE
TZID:UTC
BEGIN:STANDARD
TZOFFSETFROM:+0000
TZOFFSETTO:+0000
TZNAME:UTC
DTSTART:20230101T000000
END:STANDARD
END:VTIMEZONE
BEGIN:VEVENT
DTSTART;TZID=UTC:20240412T170000
DTEND;TZID=UTC:20240414T130000
DTSTAMP:20260424T042325
CREATED:20250310T215955Z
LAST-MODIFIED:20250310T215955Z
UID:10000322-1712941200-1713099600@www.diocese-eastcarolina.org
SUMMARY:New Beginnings 57
DESCRIPTION:New Beginnings 57 for Middle Schoolers is April 12-14 at Trinity Center in Pine Knoll Shores.   Fees     Fees for New Beginnings are NON-REFUNDABLE. Team Fees (Youth or Adult) $87.50. Candidate Fees (Youth or Adult) $175     Registration Deadline for Team: March 1st. 2024     Registration Deadline for Participants: March 21\, 2024     Payment is easily done online\, though checks will still be accepted\, you WILL NOT receive your registration QR code until payment has been recorded and required parent/guardian electronic signature for youth forms are received.     As always\, money should not be a reason a young person doesn’t participate. Please check with Xena Markine-Morrison\, John Kells\, or Emily Gowdy Canady BEFORE you begin the registration process if you would like to request a confidential scholarship.   Items Needed for Online Registration     Since this is process may be new to you\, you are encouraged to review the registration questions prior to completing so you have everything needed to complete your registration.     • Health Insurance Cards     • Emergency contact information     • ALL ADULTS are required to have a satisfactory background check and have completed the necessary modules required by Safe Church\, Safe Communities to attend. Please see the registration form for deadlines to complete these requirements. You may also consult the Diocesan Policies for the Protection of Children\, Youth and Vulnerable Adults should you have any questions.    REGISTER HERE
URL:https://www.diocese-eastcarolina.org/events/new-beginnings-57/
LOCATION:NC
CATEGORIES:Lifelong Christian Formation,New Beginnings,Youth Events
ATTACH;FMTTYPE=image/png:https://www.diocese-eastcarolina.org/wp-content/uploads/2025/03/new-beginnings-57-reg-fox-instagram-post_132-JIGStb.tmp_.png
END:VEVENT
END:VCALENDAR