BEGIN:VCALENDAR
VERSION:2.0
PRODID:-//Episcopal Diocese of East Carolina - ECPv6.15.20//NONSGML v1.0//EN
CALSCALE:GREGORIAN
METHOD:PUBLISH
X-WR-CALNAME:Episcopal Diocese of East Carolina
X-ORIGINAL-URL:https://www.diocese-eastcarolina.org
X-WR-CALDESC:Events for Episcopal Diocese of East Carolina
REFRESH-INTERVAL;VALUE=DURATION:PT1H
X-Robots-Tag:noindex
X-PUBLISHED-TTL:PT1H
BEGIN:VTIMEZONE
TZID:UTC
BEGIN:STANDARD
TZOFFSETFROM:+0000
TZOFFSETTO:+0000
TZNAME:UTC
DTSTART:20220101T000000
END:STANDARD
END:VTIMEZONE
BEGIN:VEVENT
DTSTART;TZID=UTC:20231021T093000
DTEND;TZID=UTC:20231021T150000
DTSTAMP:20260424T134305
CREATED:20250310T220240Z
LAST-MODIFIED:20250310T220240Z
UID:10000377-1697880600-1697900400@www.diocese-eastcarolina.org
SUMMARY:East Carolina Youth serving The Episcopal Farmworker Ministry
DESCRIPTION:Join with 6th -12th graders from the Diocese of East Carolina Youth serving The Episcopal Farmworker Ministry.At Minds to Think\, Hearts to Love\, Hands to Serve we will learn more about this important ministry in our diocese. Together we will serve this ministry by wrapping gifts for their annual Christmas Toy Drive.Participants and their congregations are WELCOME to donate towards the toy drive. You can find the wish list HERE. EVENT LOCATION & TIME CHANGE   This event is now going to be held at Christ Church\, New Bern.   Check-in begins at 9:30 AM\, with the event starting promptly at 10:00 AM.  This event will mirror the ECYC’s annual yOUThREACH.  Registration is OPEN. There is a $25 registration fee for this event which covers the cost of food and the event t-shirt. Deadline to register is October 16th. REGISTER HERE
URL:https://www.diocese-eastcarolina.org/events/east-carolina-youth-serving-the-episcopal-farmworker-ministry/
LOCATION:NC
CATEGORIES:Youth Events
END:VEVENT
END:VCALENDAR