BEGIN:VCALENDAR
VERSION:2.0
PRODID:-//Episcopal Diocese of East Carolina - ECPv6.15.20//NONSGML v1.0//EN
CALSCALE:GREGORIAN
METHOD:PUBLISH
X-ORIGINAL-URL:https://www.diocese-eastcarolina.org
X-WR-CALDESC:Events for Episcopal Diocese of East Carolina
REFRESH-INTERVAL;VALUE=DURATION:PT1H
X-Robots-Tag:noindex
X-PUBLISHED-TTL:PT1H
BEGIN:VTIMEZONE
TZID:UTC
BEGIN:STANDARD
TZOFFSETFROM:+0000
TZOFFSETTO:+0000
TZNAME:UTC
DTSTART:20220101T000000
END:STANDARD
END:VTIMEZONE
BEGIN:VEVENT
DTSTART;TZID=UTC:20230520T093000
DTEND;TZID=UTC:20230520T140000
DTSTAMP:20260424T115421
CREATED:20250310T220408Z
LAST-MODIFIED:20250310T220408Z
UID:10000405-1684575000-1684591200@www.diocese-eastcarolina.org
SUMMARY:Sewing Classes with Episcopal Farmworker Ministry
DESCRIPTION:Episcopal Farmworker Ministry (EFWM) is looking for volunteers who are sewers and quilters to learn a craft alongside the EFWM community. Our purpose is to get groups together who wouldn’t normally meet in everyday life.  On May 20 from 9:30-2pm\, we will learn to quilt a small table runner. All classes will have an instructor and translator. Classes will be held at Episcopal Farmworker Ministry: 2989 Easy Street\, Dunn\, NC 28334. Please contact Meg Smith if you would like to participate or want information: pmegsmith@gmail.com or 919.619.0031.
URL:https://www.diocese-eastcarolina.org/events/sewing-classes-with-episcopal-farmworker-ministry/
CATEGORIES:Uncategorized
ATTACH;FMTTYPE=image/png:https://www.diocese-eastcarolina.org/wp-content/uploads/2025/03/sewing-classes-fellowship-with-farmworker-ministry-3_898-jKeJ2L.tmp_.png
END:VEVENT
END:VCALENDAR