BEGIN:VCALENDAR
VERSION:2.0
PRODID:-//Episcopal Diocese of East Carolina - ECPv6.15.20//NONSGML v1.0//EN
CALSCALE:GREGORIAN
METHOD:PUBLISH
X-WR-CALNAME:Episcopal Diocese of East Carolina
X-ORIGINAL-URL:https://www.diocese-eastcarolina.org
X-WR-CALDESC:Events for Episcopal Diocese of East Carolina
REFRESH-INTERVAL;VALUE=DURATION:PT1H
X-Robots-Tag:noindex
X-PUBLISHED-TTL:PT1H
BEGIN:VTIMEZONE
TZID:UTC
BEGIN:STANDARD
TZOFFSETFROM:+0000
TZOFFSETTO:+0000
TZNAME:UTC
DTSTART:20240101T000000
END:STANDARD
END:VTIMEZONE
BEGIN:VEVENT
DTSTART;TZID=UTC:20250404T080000
DTEND;TZID=UTC:20250406T170000
DTSTAMP:20260423T014944
CREATED:20250310T215749Z
LAST-MODIFIED:20250310T215749Z
UID:10000278-1743753600-1743958800@www.diocese-eastcarolina.org
SUMMARY:New Beginnings 58
DESCRIPTION:New Beginnings 58 \nApril 4-6\, 2025 • Trinity Center \n New Beginnings is a weekend event designed especially to respond to the unique challenges and concerns of your people in grades 6-8.  It was created by adults and young people to help participants grow in their love of themselves\, others and for Jesus Christ. \n During the weekend\, participants meet peers from across the diocese\, enjoy skits\, listen to talks\, and participate in small group activities and discussions.  These activities focus on self\, friends\, parents\, siblings\, school\, God’s love\, prayer\, and the church.  Free time is built in for young people and adult youth leaders to have an opportunity to fellowship with their newfound friends. \n The Diocese of East Carolina sponsors New Beginnings in the Spring of each year. \n Please review the registration form prior to beginning to make sure you have all the required information to complete. \n Click here to register. \n Team Meeting is Saturday\, March 15th from 10 AM to 4 PM. Location TBA \n Registration Deadline for participants is March 10th. \n NEW – PLEASE REVIEW YOUTH EVENT PAYMENT & FEE POLICIES \n Event Fee Payments & Policies 12025.pdf \n If you have any questions\, please contact Emily Gowdy Canady.
URL:https://www.diocese-eastcarolina.org/events/new-beginnings-58/
LOCATION:NC
CATEGORIES:Front Page Events,Lifelong Christian Formation Resources,News,News & Events
ATTACH;FMTTYPE=image/png:https://www.diocese-eastcarolina.org/wp-content/uploads/2025/03/2025-New-Beginnings-58-Banner-Instagram-Post-rlkLoi.tmp_.png
END:VEVENT
END:VCALENDAR