BEGIN:VCALENDAR
VERSION:2.0
PRODID:-//Episcopal Diocese of East Carolina - ECPv6.15.20//NONSGML v1.0//EN
CALSCALE:GREGORIAN
METHOD:PUBLISH
X-ORIGINAL-URL:https://www.diocese-eastcarolina.org
X-WR-CALDESC:Events for Episcopal Diocese of East Carolina
REFRESH-INTERVAL;VALUE=DURATION:PT1H
X-Robots-Tag:noindex
X-PUBLISHED-TTL:PT1H
BEGIN:VTIMEZONE
TZID:UTC
BEGIN:STANDARD
TZOFFSETFROM:+0000
TZOFFSETTO:+0000
TZNAME:UTC
DTSTART:20240101T000000
END:STANDARD
END:VTIMEZONE
BEGIN:VEVENT
DTSTART;TZID=UTC:20250308T093000
DTEND;TZID=UTC:20250308T143000
DTSTAMP:20260422T234241
CREATED:20250310T215808Z
LAST-MODIFIED:20250310T215808Z
UID:10000286-1741426200-1741444200@www.diocese-eastcarolina.org
SUMMARY:Lenten Day of Reflection
DESCRIPTION:Where: St. John’s Episcopal Church\, Fayetteville\, NC \n When: Saturday\, March 8\, 2025\, 9:30am-2:30pm \n What: The St. John’s Daughters of the King invite you to join them for an intentional exploration of your current communication lines with God and hopefully untangle come crossed wires. God will be our Reflection Day leader. Lisa Richey will bring some supplies. \n Light refreshments will be available upon arrival. We’ll also share in a light lunch and conclude with the Holy Eucharist. \n Contact Becky Clevenger for more information and to register.
URL:https://www.diocese-eastcarolina.org/events/lenten-day-of-reflection-2/
CATEGORIES:Lenten Resources,News,News & Events
ATTACH;FMTTYPE=image/png:https://www.diocese-eastcarolina.org/wp-content/uploads/2025/03/St.-Johns-Lenten-Reflection-IHmMTN.tmp_.png
END:VEVENT
BEGIN:VEVENT
DTSTART;TZID=UTC:20250310T183000
DTEND;TZID=UTC:20250310T200000
DTSTAMP:20260422T234241
CREATED:20250310T215807Z
LAST-MODIFIED:20250310T215807Z
UID:10000285-1741631400-1741636800@www.diocese-eastcarolina.org
SUMMARY:Guided By The Spirit: A Lent Class for Adults\, Rooted in the Fruits of The Spirit
DESCRIPTION:Join us for on Mondays through Lent for a transformative journey through children’s literature using Galatians 5:22-24 as our guide. Together we will explore love\, joy\, peace\, patience\, kindness\, generosity\, faithfulness\, gentleness\, and self-control\, reflecting on how each of these can deepen our faith and guide our daily interactions with those around us.\n\nWe invite you to come as you are! Whether you are new to taking a class during this holy season or are looking to observe Lent a little differently\, “Guided By The Spirit” seeks to be a welcoming space for all to connect\, learn\, and grow with others from around the diocese. Classes are led by clergy and lay members from around the Diocese of East Carolina.\n\nEach week we will explore a new book. You do not need to read or prepare anything ahead of time. Join us at 7 PM for Prayers for Early Evening from Daily Devotions in the Book of Common Prayer\, followed by the sharing of the story for the week and discussion. You can register here.
URL:https://www.diocese-eastcarolina.org/events/guided-by-the-spirit-a-lent-class-for-adults-rooted-in-the-fruits-of-the-spirit/
CATEGORIES:Lenten Resources
ATTACH;FMTTYPE=image/jpeg:https://www.diocese-eastcarolina.org/wp-content/uploads/2025/03/Lent-2025-Adult-Offering-IG-and-Web-6uK0vD.tmp_.jpg
END:VEVENT
BEGIN:VEVENT
DTSTART;TZID=UTC:20250329T093000
DTEND;TZID=UTC:20250329T143000
DTSTAMP:20260422T234241
CREATED:20250310T215752Z
LAST-MODIFIED:20250310T215752Z
UID:10000280-1743240600-1743258600@www.diocese-eastcarolina.org
SUMMARY:Lenten Day of Reflection
DESCRIPTION:Where: Trinity Center’s St. James Room\, Pine Knoll Shores\, NC \n When: Saturday\, March 29\, 2025\, 9:30am-2:30pm \n What: The St. Pau’s Episcopal Church Women invite you to join them for an intentional exploration of your current communication lines with God and hopefully untangle come crossed wires. God will be our Reflection Day leader. Lisa Richey will bring some supplies. \n Light refreshments will be available upon arrival. We’ll also share in a light lunch and conclude with the Holy Eucharist. \n Call St. Paul’s Church at 252-728-3324 for more information and to register.
URL:https://www.diocese-eastcarolina.org/events/lenten-day-of-reflection/
CATEGORIES:Lenten Resources,News,News & Events
ATTACH;FMTTYPE=image/png:https://www.diocese-eastcarolina.org/wp-content/uploads/2025/03/St.-Pauls-Lenten-Reflection-ETh03U.tmp_.png
END:VEVENT
END:VCALENDAR