BEGIN:VCALENDAR
VERSION:2.0
PRODID:-//Episcopal Diocese of East Carolina - ECPv6.15.20//NONSGML v1.0//EN
CALSCALE:GREGORIAN
METHOD:PUBLISH
X-ORIGINAL-URL:https://www.diocese-eastcarolina.org
X-WR-CALDESC:Events for Episcopal Diocese of East Carolina
REFRESH-INTERVAL;VALUE=DURATION:PT1H
X-Robots-Tag:noindex
X-PUBLISHED-TTL:PT1H
BEGIN:VTIMEZONE
TZID:UTC
BEGIN:STANDARD
TZOFFSETFROM:+0000
TZOFFSETTO:+0000
TZNAME:UTC
DTSTART:20220101T000000
END:STANDARD
END:VTIMEZONE
BEGIN:VEVENT
DTSTART;TZID=UTC:20230228T193000
DTEND;TZID=UTC:20230228T203000
DTSTAMP:20260424T171541
CREATED:20250310T220703Z
LAST-MODIFIED:20250310T220703Z
UID:10000425-1677612600-1677616200@www.diocese-eastcarolina.org
SUMMARY:Holy & Faithful: Uncovering saints who sought and served Christ in different ways
DESCRIPTION:The Episcopal Church’s definition of a Saint begins this way\,A holy person\, a faithful Christian\, one who shares life with Christ. You are invited during Lent 2023 to explore Episcopal Saints who may be less familiar to you.     This is an Adult Formation opportunity available on Zoom. Class materials and Zoom information will be emailed out to participants ahead of the start of class.   Series leaders are:          Meg Jones is currently the Director of Christian Formation at Christ Church in New Bern\, NC. She is a life-long Episcopalian\, raised in the Diocese of Atlanta. After graduating from Appalachian State University\, she spent two years at the Cathedral of St. Philip in Atlanta in their youth ministry internship program and a year at St. Teresa’s Episcopal Church in Acworth\, GA as the Director of Children’s and Youth Ministry. Meg bring experiences in churches of varying sizes as well as Diocesan\, Provincial and Broader church connections. Here in the diocese Meg has co-coordinated yOUThREACH 2021 and 2022 and has been a member of the planning and design teams for “Embracing Change” in 2021 and “Holy Lent” in 2022. Both were Adult Formation series for the diocese.          Xena Markine- Morrison is currently the Director of Christian Formation at St. Stephen’s Episcopal Church in Goldsboro\, NC. Xena also teaches English Language Arts at St. Mary’s Catholic School in Goldsboro. Xena serves as the New Beginnings co-coordinator for the diocese as well as an adult leader on the East Carolina Youth Council. She was part of the planning and design team for “Holy Lent” 2022 an Adult Formation series for the diocese.   Classes are Tuesdays during Lent:     7:30 – 8:30 PM – February 28th\, March 7th\, 14th 21st and 28th     Class Videos and Resources can be found here:
URL:https://www.diocese-eastcarolina.org/events/holy-faithful-uncovering-saints-who-sought-and-served-christ-in-different-ways/
CATEGORIES:Lenten Resources
ATTACH;FMTTYPE=image/png:https://www.diocese-eastcarolina.org/wp-content/uploads/2025/03/lent-saint-series-instagram-post-square_625-EpgYeI.tmp_.png
END:VEVENT
END:VCALENDAR