BEGIN:VCALENDAR
VERSION:2.0
PRODID:-//Episcopal Diocese of East Carolina - ECPv6.15.20//NONSGML v1.0//EN
CALSCALE:GREGORIAN
METHOD:PUBLISH
X-WR-CALNAME:Episcopal Diocese of East Carolina
X-ORIGINAL-URL:https://www.diocese-eastcarolina.org
X-WR-CALDESC:Events for Episcopal Diocese of East Carolina
REFRESH-INTERVAL;VALUE=DURATION:PT1H
X-Robots-Tag:noindex
X-PUBLISHED-TTL:PT1H
BEGIN:VTIMEZONE
TZID:UTC
BEGIN:STANDARD
TZOFFSETFROM:+0000
TZOFFSETTO:+0000
TZNAME:UTC
DTSTART:20220101T000000
END:STANDARD
END:VTIMEZONE
BEGIN:VEVENT
DTSTART;TZID=UTC:20231004T150000
DTEND;TZID=UTC:20231004T160000
DTSTAMP:20260424T185737
CREATED:20250310T220307Z
LAST-MODIFIED:20250310T220307Z
UID:10000385-1696431600-1696435200@www.diocese-eastcarolina.org
SUMMARY:October Diocesan Formation Leader Gathering
DESCRIPTION:October 4\, 2023  Intergenerational and All Ages Resources and Ideas   Sarah Bentley Allred will be leading this Diocese of East Carolina Formation Leader Gathering. Sarah is the Senior Formation Associate for Lifelong Learning at Virginia Theological Seminary (VTS). Her portfolio includes serving as the Building Faith Editor\, the Forma Convener\, a Godly Play trainer\, and is developer of Vibrant Faith’s Practical Tools for Raising Faithful Kids. In addition\, she holds an MDiv from VTS in Christian Formation.  During college Sarah served as a camp counselor and camp Chaplain at Camp Kanuga\, and prior to joining the Lifelong Learning Team at VTS\, she served three parishes in Christian Formation capacities. During this regular Formation Leader Gathering Zoom\, Sarah will be sharing ideas and resources for Intergenerational and All Ages Ministry opportunities. Please select the time that works best for you. Information about the ZOOM link will be emailed out the Monday before ZOOM gatherings.  Registration closes Tuesday\, September 26th REGISTER HERE
URL:https://www.diocese-eastcarolina.org/events/october-diocesan-formation-leader-gathering/
CATEGORIES:Formation Leaders
ATTACH;FMTTYPE=image/png:https://www.diocese-eastcarolina.org/wp-content/uploads/2025/03/formation-leader-gathering-info-webinstagram_199-a6e66E.tmp_.png
END:VEVENT
END:VCALENDAR