BEGIN:VCALENDAR
VERSION:2.0
PRODID:-//Episcopal Diocese of East Carolina - ECPv6.15.20//NONSGML v1.0//EN
CALSCALE:GREGORIAN
METHOD:PUBLISH
X-WR-CALNAME:Episcopal Diocese of East Carolina
X-ORIGINAL-URL:https://www.diocese-eastcarolina.org
X-WR-CALDESC:Events for Episcopal Diocese of East Carolina
REFRESH-INTERVAL;VALUE=DURATION:PT1H
X-Robots-Tag:noindex
X-PUBLISHED-TTL:PT1H
BEGIN:VTIMEZONE
TZID:UTC
BEGIN:STANDARD
TZOFFSETFROM:+0000
TZOFFSETTO:+0000
TZNAME:UTC
DTSTART:20220101T000000
END:STANDARD
END:VTIMEZONE
BEGIN:VEVENT
DTSTART;TZID=UTC:20231107T190000
DTEND;TZID=UTC:20231107T203000
DTSTAMP:20260423T114029
CREATED:20250310T220220Z
LAST-MODIFIED:20250310T220220Z
UID:10000368-1699383600-1699389000@www.diocese-eastcarolina.org
SUMMARY:Amazed & Astonished: Faithfully Navigating Relationships with Your Teen
DESCRIPTION:Navigating the years young people are teenagers can be both amazing and astonishing. These years are also challenging and maddening. Using the story of Jesus in the Temple from Luke’s Gospel (2:41-52\, NRSV)\, Susan Peek\, LCSW will led parents and caregivers of 6th – 12th graders through helpful ways to faithfully adjust course and navigate healthier relationships them.  Susan Peek is the clinician Lifelong Formation has engaged to facilitate two mental health series for young people as well as a youth leader training on inclusion. She is Clinical Social Worker at Carolina Psychological Associates. Prior to her career working with children and young people as a counselor\, Susan was a Youth and Young Adult Minister in Episcopal Churches in California. She is also a disaster response counselor and teaches in this field at UNC-Greensboro.  Supported by the Department of Lifelong Christian Formation in the Diocese of East Carolina. Zoom information will be emailed to class participants at the end of October.  REGISTER HERE Questions? Please contact Emily Gowdy Canady\, Missioner for Lifelong Christian Formation for the Diocese of East Carolina.
URL:https://www.diocese-eastcarolina.org/events/amazed-astonished-faithfully-navigating-relationships-with-your-teen/
CATEGORIES:Adult Formation
ATTACH;FMTTYPE=image/png:https://www.diocese-eastcarolina.org/wp-content/uploads/2025/03/amazed-and-astonished-instaweb_517-wq8KTL.tmp_.png
END:VEVENT
END:VCALENDAR