BEGIN:VCALENDAR
VERSION:2.0
PRODID:-//Episcopal Diocese of East Carolina - ECPv6.15.20//NONSGML v1.0//EN
CALSCALE:GREGORIAN
METHOD:PUBLISH
X-WR-CALNAME:Episcopal Diocese of East Carolina
X-ORIGINAL-URL:https://www.diocese-eastcarolina.org
X-WR-CALDESC:Events for Episcopal Diocese of East Carolina
REFRESH-INTERVAL;VALUE=DURATION:PT1H
X-Robots-Tag:noindex
X-PUBLISHED-TTL:PT1H
BEGIN:VTIMEZONE
TZID:UTC
BEGIN:STANDARD
TZOFFSETFROM:+0000
TZOFFSETTO:+0000
TZNAME:UTC
DTSTART:20250101T000000
END:STANDARD
END:VTIMEZONE
BEGIN:VEVENT
DTSTART;VALUE=DATE:20260423
DTEND;VALUE=DATE:20260427
DTSTAMP:20260423T033316
CREATED:20260212T145819Z
LAST-MODIFIED:20260219T134749Z
UID:10000669-1776902400-1777247999@www.diocese-eastcarolina.org
SUMMARY:Cursillo EC107
DESCRIPTION:Adult applications are being accepted for Weekend#107 on April 23 – 26\, 2026 at Trinity Center. The fee is $300\, includes meals. Applications here: cursillodec.org at the docs and links.
URL:https://www.diocese-eastcarolina.org/events/cursillo-ec107/
LOCATION:Trinity Center\, 618 Salter Path Rd\,\, Pine Knoll Shores\, NC\, 28512\, United States
CATEGORIES:Events,Front Page Events,News & Events
ATTACH;FMTTYPE=image/png:https://www.diocese-eastcarolina.org/wp-content/uploads/2026/02/Cursillo-EC-107.png
END:VEVENT
END:VCALENDAR