BEGIN:VCALENDAR
VERSION:2.0
PRODID:-//Episcopal Diocese of East Carolina - ECPv6.15.20//NONSGML v1.0//EN
CALSCALE:GREGORIAN
METHOD:PUBLISH
X-WR-CALNAME:Episcopal Diocese of East Carolina
X-ORIGINAL-URL:http://www.diocese-eastcarolina.org
X-WR-CALDESC:Events for Episcopal Diocese of East Carolina
REFRESH-INTERVAL;VALUE=DURATION:PT1H
X-Robots-Tag:noindex
X-PUBLISHED-TTL:PT1H
BEGIN:VTIMEZONE
TZID:UTC
BEGIN:STANDARD
TZOFFSETFROM:+0000
TZOFFSETTO:+0000
TZNAME:UTC
DTSTART:20250101T000000
END:STANDARD
END:VTIMEZONE
BEGIN:VEVENT
DTSTART;TZID=UTC:20260111T140000
DTEND;TZID=UTC:20260111T173000
DTSTAMP:20260421T181946
CREATED:20250806T145132Z
LAST-MODIFIED:20251125T184039Z
UID:10000587-1768140000-1768152600@www.diocese-eastcarolina.org
SUMMARY:Upper Cape Fear Deanery Youth Gathering
DESCRIPTION:January 11\, 2026 | Holy Trinity\, Fayetteville | 2:00* – 5:00 PM \n* Check in begins at 2:00 PM\, program starts promptly at 2:30 PM. \nHosted at Holy Trinity\, Fayetteville and led by the ECYC\, come and with youth in 6 – 12th grades and their adult leaders from the Upper Cape Fear Deanery for an afternoon of fellowship\, service\, and celebrating Epiphany! \nWe will be doing a service project for our Military Veterans. \nRegister and learn more here! \n**You do not have to be from the Upper Cape Fear Deanery to participate. If your parish would like to come\, just register!  \nQuestions? Please contact Emily Gowdy Canady\, Missioner for Lifelong Christian Formation for the Diocese of East Carolina.  
URL:http://www.diocese-eastcarolina.org/events/upper-cape-fear-deanery-youth-gathering/
LOCATION:Holy Trinity\, Fayetteville\, 1601 Raeford Road\, Fayetteville\, NC\, 28305\, United States
CATEGORIES:Events,Front Page Events,Lifelong Christian Formation,News & Events,Upper Cape Fear Deanery,Youth Events
ATTACH;FMTTYPE=image/png:http://www.diocese-eastcarolina.org/wp-content/uploads/2025/08/Upper-Cape-Fear-Deanery-Youth-Gathering-Instagram.png
END:VEVENT
BEGIN:VEVENT
DTSTART;VALUE=DATE:20260116
DTEND;VALUE=DATE:20260119
DTSTAMP:20260421T181946
CREATED:20251112T000009Z
LAST-MODIFIED:20251031T140812Z
UID:10000577-1768521600-1768780799@www.diocese-eastcarolina.org
SUMMARY:Winter Retreat 2026
DESCRIPTION:January 16-18\, 2026 • Camp Trinity \nWinter Retreat 2026 is a collaboration between Camp Trinity and the Diocese of East Carolina Youth Ministries. Join 8th through 12th graders who are past Camp Trinity Campers and or\, young people from around the Diocese of East Carolina for a weekend of Camp T fun. You do not have to have been a Camp Trinity Camper nor do you have to have ever attended a Diocese of East Carolina Youth Event. \nThis event is staffed by former Camp Trinity Camp Staff\, so parish youth leaders are not needed. \nShould you have any questions\, please contact Mary Beth Bradberry\, Director of Camp Trinity. \nClick here to register and learn more!
URL:http://www.diocese-eastcarolina.org/events/winter-retreat-2026/
LOCATION:Trinity Center\, 618 Salter Path Rd\,\, Pine Knoll Shores\, NC\, 28512\, United States
CATEGORIES:Events,Front Page Events,Lifelong Christian Formation,News & Events,Winter Retreat,Youth Events
ATTACH;FMTTYPE=image/png:http://www.diocese-eastcarolina.org/wp-content/uploads/2025/11/Winter-Retreat-2026-IG-GG.png
END:VEVENT
BEGIN:VEVENT
DTSTART;TZID=UTC:20260117T160000
DTEND;TZID=UTC:20260117T173000
DTSTAMP:20260421T181947
CREATED:20260112T141946Z
LAST-MODIFIED:20260112T141946Z
UID:10000656-1768665600-1768671000@www.diocese-eastcarolina.org
SUMMARY:Choral Evensong with Schola Cantorum at St. Francis by the Sea\, Salter Path
DESCRIPTION:All are welcome to attend Choral Evensong at St. Francis by the Sea\, Salter Path on January 17th\, 2026 at 4pm with Schola Cantorum.
URL:http://www.diocese-eastcarolina.org/events/choral-evensong-with-schola-cantorum-at-st-francis-by-the-sea-salter-path/
LOCATION:St. Francis by-the-Sea\, Salter Path\, 920 Salter Path Rd\, Salter Path\, NC\, 28575\, United States
CATEGORIES:Events,Front Page Events,News & Events
ATTACH;FMTTYPE=image/png:http://www.diocese-eastcarolina.org/wp-content/uploads/2026/01/Jan1726-Chris-Garrison.png
END:VEVENT
BEGIN:VEVENT
DTSTART;TZID=UTC:20260125T180000
DTEND;TZID=UTC:20260125T193000
DTSTAMP:20260421T181947
CREATED:20251022T165627Z
LAST-MODIFIED:20251230T134435Z
UID:10000637-1769364000-1769369400@www.diocese-eastcarolina.org
SUMMARY:Burns Night Supper at St. Andrew's\, Morehead
DESCRIPTION:Come celebrate the life of the Scottish bard\, Rabbie Burns\, 25 January 1759–21 July 1796\, the national poet of Scotland. Famous for works\, including “Auld Lang Syne\,” “Tam O’ Shanter\,” “A Red\, Red Rose” and “Address to a Haggis” which are still widely recognized the world over. Enjoy a full Scottish menu\, drinks and entertainment. $80 per guest Choice of Balmoral Chicken or Encrusted Cod Tatties\, Neeps\, Haggis and Dessert. Cash Bar This event is a fundraiser for the St Andrew’s Music Program Saturday January 24\, 2026. 6PM https://standrewsburnsnight.eventbrite.com
URL:http://www.diocese-eastcarolina.org/events/21522/
LOCATION:St. Andrew’s\, Morehead\, 2005 Arendell St\, Morehead\, NC\, 28557\, United States
CATEGORIES:Events,Front Page Events,News & Events
ATTACH;FMTTYPE=image/jpeg:http://www.diocese-eastcarolina.org/wp-content/uploads/2025/10/Burns-Event-Cover-Alex.jpg
END:VEVENT
END:VCALENDAR